BEGIN:VCALENDAR
VERSION:2.0
PRODID:-//Hot Club of Siam//Calendar//EN
CALSCALE:GREGORIAN
METHOD:PUBLISH
X-WR-CALNAME:Hot Club of Siam
X-WR-TIMEZONE:Asia/Bangkok
BEGIN:VEVENT
UID:event-5@hotclubofsiam.com
DTSTAMP:20260421T084617Z
DTSTART;TZID=Asia/Bangkok:20260504T200000
DTEND;TZID=Asia/Bangkok:20260504T230000
SUMMARY:HCOS @The Common Thonglor
LOCATION:The Common Thonglor
URL:https://hotclubofsiam.com/calendar/event.php?id=5
STATUS:CONFIRMED
END:VEVENT
END:VCALENDAR
